BEGIN:VCALENDAR
VERSION:2.0
CALSCALE:GREGORIAN
PRODID:adamgibbons/ics
METHOD:PUBLISH
X-PUBLISHED-TTL:PT1H
BEGIN:VEVENT
UID:467@calendar.pex.coop
SUMMARY:Sunday Crafternoon
DTSTAMP:20260421T101503Z
DTSTART:20260412T200000Z
DTEND:20260412T230000Z
DESCRIPTION:Have a work-in-progress that needs attention? Bring your suppli
	es and work down\nto PEX for some collective motivation. We got tables and
	 nice people\, and you\ngot stuff to work on. Sunday April 12th from 1-4pm
	 at PEX.
URL:https://calendar.pex.coop/event/sunday-crafternoon
GEO:47.5686326;-122.6536444
LOCATION:PEX - 639 N Callow Ave\, Bremerton\, WA. 98312
STATUS:CONFIRMED
CATEGORIES:meetup,free,art,craft
X-ALT-DESC;FMTTYPE=text/html:<p>Have a work-in-progress that needs attentio
	n? Bring your supplies and work down to PEX for some collective motivation
	. We got tables and nice people, and you got stuff to work on. Sunday Apri
	l 12th from 1-4pm at PEX.</p>
BEGIN:VALARM
ACTION:DISPLAY
DESCRIPTION:Sunday Crafternoon
TRIGGER:-PT1H
END:VALARM
END:VEVENT
END:VCALENDAR
