BEGIN:VCALENDAR
VERSION:2.0
CALSCALE:GREGORIAN
PRODID:adamgibbons/ics
METHOD:PUBLISH
X-PUBLISHED-TTL:PT1H
BEGIN:VEVENT
UID:473@calendar.pex.coop
SUMMARY:Queer Meetup
DTSTAMP:20260421T132225Z
DTSTART:20260413T010000Z
URL:https://calendar.pex.coop/event/queer-meetup-67
GEO:47.5686326;-122.6536444
LOCATION:PEX - 639 N Callow Ave\, Bremerton\, WA. 98312
STATUS:CONFIRMED
CATEGORIES:meetup,queer
BEGIN:VALARM
ACTION:DISPLAY
DESCRIPTION:Queer Meetup
TRIGGER:-PT1H
END:VALARM
END:VEVENT
END:VCALENDAR
