BEGIN:VCALENDAR
VERSION:2.0
CALSCALE:GREGORIAN
PRODID:adamgibbons/ics
METHOD:PUBLISH
X-PUBLISHED-TTL:PT1H
BEGIN:VEVENT
UID:454@calendar.pex.coop
SUMMARY:PEX Book Club
DTSTAMP:20260421T084332Z
DTSTART:20260426T230000Z
DTEND:20260427T000000Z
URL:https://calendar.pex.coop/event/pex-book-club-15
GEO:47.5686326;-122.6536444
LOCATION:PEX - 639 N Callow Ave\, Bremerton\, WA. 98312
STATUS:CONFIRMED
CATEGORIES:
BEGIN:VALARM
ACTION:DISPLAY
DESCRIPTION:PEX Book Club
TRIGGER:-PT1H
END:VALARM
END:VEVENT
END:VCALENDAR
