BEGIN:VCALENDAR
VERSION:2.0
CALSCALE:GREGORIAN
PRODID:adamgibbons/ics
METHOD:PUBLISH
X-PUBLISHED-TTL:PT1H
BEGIN:VEVENT
UID:456@calendar.pex.coop
SUMMARY:Masked Monday
DTSTAMP:20260421T131426Z
DTSTART:20260414T010000Z
DTEND:20260414T040000Z
DESCRIPTION:Join us on April 13th for the return of Masked Mondays. We will
	 be meeting on\nsecond Mondays from 6-9pm. Come to hang out\, swap some zi
	nes\, grab masks and/or\nCOVID tests\, and help us plan future events for 
	fellow maskers.
URL:https://calendar.pex.coop/event/masked-monday-1
GEO:47.5686326;-122.6536444
LOCATION:PEX - 639 N Callow Ave\, Bremerton\, WA. 98312
STATUS:CONFIRMED
CATEGORIES:masks required,meetup
X-ALT-DESC;FMTTYPE=text/html:<p>Join us on April 13th for the return of Mas
	ked Mondays. We will be meeting on second Mondays from 6-9pm. Come to hang
	 out, swap some zines, grab masks and/or COVID tests, and help us plan fut
	ure events for fellow maskers.</p>
BEGIN:VALARM
ACTION:DISPLAY
DESCRIPTION:Masked Monday
TRIGGER:-PT1H
END:VALARM
END:VEVENT
END:VCALENDAR
