BEGIN:VCALENDAR
VERSION:2.0
CALSCALE:GREGORIAN
PRODID:adamgibbons/ics
METHOD:PUBLISH
X-PUBLISHED-TTL:PT1H
BEGIN:VEVENT
UID:474@calendar.pex.coop
SUMMARY:Little Free Art School
DTSTAMP:20260421T083440Z
DTSTART:20260425T190000Z
DTEND:20260425T210000Z
DESCRIPTION:Flower Prints @ PEX! Make monoprints of flowers at People’s Exc
	hange during the\nCallow Spring Fling for Free Little Art School with @ele
	phantshoestudio. You’ll\nlearn how to use flowers and gel plates to make p
	rints without a press. Ages 10\nand up due to the nature of the printing\,
	 beginners welcome\, all materials\nincluded\, no cost though donations to
	 PEX are encouraged\, not required.\nRecommended to bring your favorite fr
	esh flowers/foliage/etc to use! Space will\nbe limited due to supplies
URL:https://calendar.pex.coop/event/little-free-art-school-1
GEO:47.5686326;-122.6536444
LOCATION:PEX - 639 N Callow Ave\, Bremerton\, WA. 98312
STATUS:CONFIRMED
CATEGORIES:free,art
X-ALT-DESC;FMTTYPE=text/html:<p>Flower Prints @ PEX! Make monoprints of flo
	wers at People’s Exchange during the Callow Spring Fling for Free Little A
	rt School with @elephantshoestudio. You’ll learn how to use flowers and ge
	l plates to make prints without a press. Ages 10 and up due to the nature 
	of the printing, beginners welcome, all materials included, no cost though
	 donations to PEX are encouraged, not required. Recommended to bring your 
	favorite fresh flowers/foliage/etc to use! Space will be limited due to su
	pplies</p>
BEGIN:VALARM
ACTION:DISPLAY
DESCRIPTION:Little Free Art School
TRIGGER:-PT1H
END:VALARM
END:VEVENT
END:VCALENDAR
