BEGIN:VCALENDAR
VERSION:2.0
CALSCALE:GREGORIAN
PRODID:adamgibbons/ics
METHOD:PUBLISH
X-PUBLISHED-TTL:PT1H
BEGIN:VEVENT
UID:457@calendar.pex.coop
SUMMARY:Harm Reduction Kit Building
DTSTAMP:20260421T083623Z
DTSTART:20260427T190000Z
DTEND:20260427T230000Z
URL:https://calendar.pex.coop/event/harm-reduction-kit-building-7
GEO:47.5686326;-122.6536444
LOCATION:PEX - 639 N Callow Ave\, Bremerton\, WA. 98312
STATUS:CONFIRMED
CATEGORIES:
BEGIN:VALARM
ACTION:DISPLAY
DESCRIPTION:Harm Reduction Kit Building
TRIGGER:-PT1H
END:VALARM
END:VEVENT
END:VCALENDAR
