BEGIN:VCALENDAR
VERSION:2.0
CALSCALE:GREGORIAN
PRODID:adamgibbons/ics
METHOD:PUBLISH
X-PUBLISHED-TTL:PT1H
BEGIN:VEVENT
UID:468@calendar.pex.coop
SUMMARY:Egg Remix!
DTSTAMP:20260421T114434Z
DTSTART:20260412T230000Z
DTEND:20260413T010000Z
DESCRIPTION:Regifting day! If you've got leftover decor\, egg fillers\, bas
	kets\, or just so\nmany plastic eggs you don't want to hold onto\, bring '
	em down on Sunday the 12th\nanytime from 4:00 to 6:00pm.\n\nOr if you want
	 to get a jump start on next year's supplies\, come take what you\nlike! C
	andy swap box will be out\, too!
URL:https://calendar.pex.coop/event/egg-remix
GEO:47.5686326;-122.6536444
LOCATION:PEX - 639 N Callow Ave\, Bremerton\, WA. 98312
STATUS:CONFIRMED
CATEGORIES:swap,free,share
X-ALT-DESC;FMTTYPE=text/html:<p>Regifting day! If you've got leftover decor
	, egg fillers, baskets, or just so many plastic eggs you don't want to hol
	d onto, bring 'em down on Sunday the 12th anytime from 4:00 to 6:00pm. </p
	><p>Or if you want to get a jump start on next year's supplies, come take 
	what you like! Candy swap box will be out, too!</p>
BEGIN:VALARM
ACTION:DISPLAY
DESCRIPTION:Egg Remix!
TRIGGER:-PT1H
END:VALARM
END:VEVENT
END:VCALENDAR
